BEGIN:VCALENDAR
VERSION:2.0
PRODID:-//Ribamar - ECPv6.15.11//NONSGML v1.0//EN
CALSCALE:GREGORIAN
METHOD:PUBLISH
X-WR-CALNAME:Ribamar
X-ORIGINAL-URL:https://ribamar.org
X-WR-CALDESC:Eventos para Ribamar
REFRESH-INTERVAL;VALUE=DURATION:PT1H
X-Robots-Tag:noindex
X-PUBLISHED-TTL:PT1H
BEGIN:VTIMEZONE
TZID:UTC
BEGIN:STANDARD
TZOFFSETFROM:+0000
TZOFFSETTO:+0000
TZNAME:UTC
DTSTART:20220101T000000
END:STANDARD
END:VTIMEZONE
BEGIN:VEVENT
DTSTART;TZID=UTC:20231024T160000
DTEND;TZID=UTC:20231128T190000
DTSTAMP:20260422T215421
CREATED:20230915T085154Z
LAST-MODIFIED:20231003T110640Z
UID:13540-1698163200-1701198000@ribamar.org
SUMMARY:CURSO DE ESPECIALIZACIÓN. DERMOFARMACIA I
DESCRIPTION:
URL:https://ribamar.org/eventos/curso-de-especializacion-dermofarmacia-i/
END:VEVENT
BEGIN:VEVENT
DTSTART;VALUE=DATE:20231108
DTEND;VALUE=DATE:20231222
DTSTAMP:20260422T215421
CREATED:20231005T073808Z
LAST-MODIFIED:20231010T103735Z
UID:13607-1699401600-1703203199@ribamar.org
SUMMARY:IV CURSO DE LENGUA DE SIGNOS
DESCRIPTION:Días 8\,15\,22 y 29 de noviembre y 13\,20 y 21 de diciembre de 2023 \nAula: 17 Centro Educativo Ribamar \nPrecio del curso: 145€ \nDuración: 28H. \nPrecio: 145 € \nPlazas disponibles: 14
URL:https://ribamar.org/eventos/iv-curso-de-lengua-de-signos/
ATTACH;FMTTYPE=image/jpeg:https://ribamar.org/wp-content/uploads/2022/10/LENGUA-DE-SIGNOS-RIBAMAR-23.jpg
END:VEVENT
END:VCALENDAR