BEGIN:VCALENDAR
VERSION:2.0
PRODID:-//Ribamar - ECPv6.15.11//NONSGML v1.0//EN
CALSCALE:GREGORIAN
METHOD:PUBLISH
X-ORIGINAL-URL:https://ribamar.org
X-WR-CALDESC:Eventos para Ribamar
REFRESH-INTERVAL;VALUE=DURATION:PT1H
X-Robots-Tag:noindex
X-PUBLISHED-TTL:PT1H
BEGIN:VTIMEZONE
TZID:UTC
BEGIN:STANDARD
TZOFFSETFROM:+0000
TZOFFSETTO:+0000
TZNAME:UTC
DTSTART:20220101T000000
END:STANDARD
END:VTIMEZONE
BEGIN:VEVENT
DTSTART;TZID=UTC:20231212T160000
DTEND;TZID=UTC:20240219T190000
DTSTAMP:20260422T221930
CREATED:20230915T085755Z
LAST-MODIFIED:20231003T111110Z
UID:13544-1702396800-1708369200@ribamar.org
SUMMARY:CURSO DE ESPECIALIZACIÓN. DERMOFARMACIA II
DESCRIPTION: 
URL:https://ribamar.org/eventos/curso-de-especializacion-dermofarmacia-ii/
END:VEVENT
BEGIN:VEVENT
DTSTART;TZID=UTC:20240123T080000
DTEND;TZID=UTC:20240201T170000
DTSTAMP:20260422T221930
CREATED:20240109T101036Z
LAST-MODIFIED:20240109T101036Z
UID:13936-1705996800-1706806800@ribamar.org
SUMMARY:CURSO DE ESPECIALIZACIÓN EN BIOÉTICA
DESCRIPTION:Días 23\, 25 y 30 de enero y 1 de febrero del 2024\nHorario: De 16 a 17.30 horas\nCentro educativo Ribamar\nPrecio: 75€ alumnado Ribamar\n90€ profesionales sanitarios y docentes rama científica \n 
URL:https://ribamar.org/eventos/curso-de-especializacion-en-bioetica/
ATTACH;FMTTYPE=image/jpeg:https://ribamar.org/wp-content/uploads/2024/01/CARTEL-CURSO-BIOETICA-2024-Ribamar-scaled.jpg
END:VEVENT
END:VCALENDAR