BEGIN:VCALENDAR
VERSION:2.0
PRODID:-//Ribamar - ECPv6.15.11//NONSGML v1.0//EN
CALSCALE:GREGORIAN
METHOD:PUBLISH
X-WR-CALNAME:Ribamar
X-ORIGINAL-URL:https://ribamar.org
X-WR-CALDESC:Eventos para Ribamar
REFRESH-INTERVAL;VALUE=DURATION:PT1H
X-Robots-Tag:noindex
X-PUBLISHED-TTL:PT1H
BEGIN:VTIMEZONE
TZID:UTC
BEGIN:STANDARD
TZOFFSETFROM:+0000
TZOFFSETTO:+0000
TZNAME:UTC
DTSTART:20230101T000000
END:STANDARD
END:VTIMEZONE
BEGIN:VEVENT
DTSTART;TZID=UTC:20240610T180000
DTEND;TZID=UTC:20240610T220000
DTSTAMP:20260421T003508
CREATED:20240515T093350Z
LAST-MODIFIED:20240515T093350Z
UID:15132-1718042400-1718056800@ribamar.org
SUMMARY:Graduación CCFF Curso 2023/24
DESCRIPTION:Día 10 de junio de 2024 \nDos convocatorias: \n18.00 horas \nCFGM Atención a Personas en Situación de Dependencia \nCFGM Farmacia y Parafarmacia \nCFGM Cuidados Auxiliares de Enfermería \nCFGS Gestión de Alojamientos Turísticos \n  \n20.00 horas \nCFGS Educación Infantil \nCFGS Dietética \nCFGS Higiene Bucodental \nCFGS Laboratorio Clínico y Biomédico \nCFGS Anatomía Patológica y Citodiagnóstico \n  \nEn la Ciudad del Conocimiento de Dos Hermanas (Sevilla).
URL:https://ribamar.org/eventos/graduacion-ccff-curso-2023-24/
END:VEVENT
END:VCALENDAR