BEGIN:VCALENDAR
VERSION:2.0
PRODID:-//Ribamar - ECPv6.15.11//NONSGML v1.0//EN
CALSCALE:GREGORIAN
METHOD:PUBLISH
X-ORIGINAL-URL:https://ribamar.org
X-WR-CALDESC:Eventos para Ribamar
REFRESH-INTERVAL;VALUE=DURATION:PT1H
X-Robots-Tag:noindex
X-PUBLISHED-TTL:PT1H
BEGIN:VTIMEZONE
TZID:UTC
BEGIN:STANDARD
TZOFFSETFROM:+0000
TZOFFSETTO:+0000
TZNAME:UTC
DTSTART:20230101T000000
END:STANDARD
END:VTIMEZONE
BEGIN:VEVENT
DTSTART;TZID=UTC:20241220T080000
DTEND;TZID=UTC:20241220T130000
DTSTAMP:20260419T124631
CREATED:20241128T112101Z
LAST-MODIFIED:20241128T112101Z
UID:16999-1734681600-1734699600@ribamar.org
SUMMARY:CONCURSO VILLANCICOS
DESCRIPTION:Día 20 de diciembre de 2024 \nDe 8.00 a 13.00 horas \nCon la participación del alumnado y el equipo Ribamar
URL:https://ribamar.org/eventos/concurso-villancicos/
END:VEVENT
END:VCALENDAR