BEGIN:VCALENDAR
VERSION:2.0
PRODID:-//Ribamar - ECPv6.15.11//NONSGML v1.0//EN
CALSCALE:GREGORIAN
METHOD:PUBLISH
X-ORIGINAL-URL:https://ribamar.org
X-WR-CALDESC:Eventos para Ribamar
REFRESH-INTERVAL;VALUE=DURATION:PT1H
X-Robots-Tag:noindex
X-PUBLISHED-TTL:PT1H
BEGIN:VTIMEZONE
TZID:UTC
BEGIN:STANDARD
TZOFFSETFROM:+0000
TZOFFSETTO:+0000
TZNAME:UTC
DTSTART:20230101T000000
END:STANDARD
END:VTIMEZONE
BEGIN:VEVENT
DTSTART;TZID=UTC:20240209T083000
DTEND;TZID=UTC:20240209T143000
DTSTAMP:20260424T164859
CREATED:20240201T104923Z
LAST-MODIFIED:20240201T105159Z
UID:14365-1707467400-1707489000@ribamar.org
SUMMARY:II JORNADAS DE EMPRENDIMIENTO RIBAMAR
DESCRIPTION:De 9.00 a 12.15 horas \nCentro educativo Ribamar
URL:https://ribamar.org/eventos/ii-jornadas-de-emprendimiento-ribamar/
ATTACH;FMTTYPE=image/jpeg:https://ribamar.org/wp-content/uploads/2024/02/Cartel-Feria-Emprendimiento-2024-Ribamar-scaled.jpg
END:VEVENT
END:VCALENDAR