BEGIN:VCALENDAR
VERSION:2.0
PRODID:-//Ribamar - ECPv6.15.11//NONSGML v1.0//EN
CALSCALE:GREGORIAN
METHOD:PUBLISH
X-WR-CALNAME:Ribamar
X-ORIGINAL-URL:https://ribamar.org
X-WR-CALDESC:Eventos para Ribamar
REFRESH-INTERVAL;VALUE=DURATION:PT1H
X-Robots-Tag:noindex
X-PUBLISHED-TTL:PT1H
BEGIN:VTIMEZONE
TZID:UTC
BEGIN:STANDARD
TZOFFSETFROM:+0000
TZOFFSETTO:+0000
TZNAME:UTC
DTSTART:20210101T000000
END:STANDARD
END:VTIMEZONE
BEGIN:VEVENT
DTSTART;TZID=UTC:20221017T080000
DTEND;TZID=UTC:20230214T170000
DTSTAMP:20260425T145846
CREATED:20220922T074451Z
LAST-MODIFIED:20220922T075501Z
UID:12086-1665993600-1676394000@ribamar.org
SUMMARY:Curso de especialización en Dermofarmacia
DESCRIPTION:INICIAL \nDías 17 y 24 de octubre de 2022 y 7 y 14 de noviembre de 2022 \nESPECIALIZACIÓN \nDías 21 y 22 de noviembre de 2022 \nLunes 24\,31 de Enero\, 7 y 14 Febrero (Nivel II) \n  \nInscripciones ya abiertas. Más información \n 
URL:https://ribamar.org/eventos/curso-de-especializacion-en-dermofarmacia/
ATTACH;FMTTYPE=image/jpeg:https://ribamar.org/wp-content/uploads/2022/09/CURSOS-DE-ESPECIALIZACION-DERMOFARMACIA-1-scaled.jpg
END:VEVENT
BEGIN:VEVENT
DTSTART;TZID=UTC:20230124T160000
DTEND;TZID=UTC:20230207T173000
DTSTAMP:20260425T145846
CREATED:20221125T113029Z
LAST-MODIFIED:20221125T113401Z
UID:12529-1674576000-1675791000@ribamar.org
SUMMARY:Curso de Bioética
DESCRIPTION:Curso de especialización dirigido a alumnas y profesionales del sector sanitario. \nLa sesiones se impartirán del 24 de enero al 7 de febrero de 2023 \nCentro educativo Ribamar \nDe 16.00 a 17.30 horas \nModalidad presencial. \nEl precio por alumno es de 90 euros. Hay varias descuentos disponibles: la matrícula será de 75 euros para alumnas de Ribamar\, que se podrán beneficiar de un descuento adicional del 15% si realizan su inscripción antes del 22 de diciembre de 2022. El 15% también está disponible para profesionales externos. \n 
URL:https://ribamar.org/eventos/curso-de-bioetiv/
ATTACH;FMTTYPE=image/jpeg:https://ribamar.org/wp-content/uploads/2022/11/CURSO-BIOETICA-QR-WEB.jpg
END:VEVENT
BEGIN:VEVENT
DTSTART;TZID=UTC:20230214T080000
DTEND;TZID=UTC:20230214T150000
DTSTAMP:20260425T145847
CREATED:20230210T110411Z
LAST-MODIFIED:20230210T110411Z
UID:12779-1676361600-1676386800@ribamar.org
SUMMARY:JORNADA DE EMPRENDIMIENTO
DESCRIPTION:14 de febrero de 2023 \nCentro educativo Ribamar
URL:https://ribamar.org/eventos/jornada-de-emprendimiento/
ATTACH;FMTTYPE=image/png:https://ribamar.org/wp-content/uploads/2023/02/1.png
END:VEVENT
BEGIN:VEVENT
DTSTART;TZID=UTC:20230222T080000
DTEND;TZID=UTC:20230310T170000
DTSTAMP:20260425T145847
CREATED:20230301T113037Z
LAST-MODIFIED:20230303T075945Z
UID:12898-1677052800-1678467600@ribamar.org
SUMMARY:CAMPAÑA SOLIDARIA TURQUIA-SIRIA ¡AMPLIAMOS EL PLAZO!
DESCRIPTION:La campaña permanecerá abierta hasta el próximo 3 de marzo \nTodas aquellas personas interesadas en donar pueden acudir al centro en su horario habitual
URL:https://ribamar.org/eventos/campana-solidaria-turquia-siria/
ATTACH;FMTTYPE=image/jpeg:https://ribamar.org/wp-content/uploads/2023/03/ribamar-turquia-RRSS-solidaridad-eso-campana.jpg
END:VEVENT
END:VCALENDAR