BEGIN:VCALENDAR
VERSION:2.0
PRODID:-//Ribamar - ECPv6.15.11//NONSGML v1.0//EN
CALSCALE:GREGORIAN
METHOD:PUBLISH
X-WR-CALNAME:Ribamar
X-ORIGINAL-URL:https://ribamar.org
X-WR-CALDESC:Eventos para Ribamar
REFRESH-INTERVAL;VALUE=DURATION:PT1H
X-Robots-Tag:noindex
X-PUBLISHED-TTL:PT1H
BEGIN:VTIMEZONE
TZID:UTC
BEGIN:STANDARD
TZOFFSETFROM:+0000
TZOFFSETTO:+0000
TZNAME:UTC
DTSTART:20220101T000000
END:STANDARD
END:VTIMEZONE
BEGIN:VEVENT
DTSTART;VALUE=DATE:20230609
DTEND;VALUE=DATE:20230610
DTSTAMP:20260424T010924
CREATED:20230411T082153Z
LAST-MODIFIED:20230411T082153Z
UID:13055-1686268800-1686355199@ribamar.org
SUMMARY:GRADUACIÓN CICLOS FORMATIVOS 2022/23
DESCRIPTION:GRADUACIÓN CFGM y CFGS 9 de junio de 2023 \nCiudad del Conocimiento de Dos Hermanas
URL:https://ribamar.org/eventos/graduacion-ciclos-formativos-2022-23/
END:VEVENT
BEGIN:VEVENT
DTSTART;VALUE=DATE:20230615
DTEND;VALUE=DATE:20230701
DTSTAMP:20260424T010924
CREATED:20230616T102917Z
LAST-MODIFIED:20230616T102917Z
UID:13341-1686787200-1688169599@ribamar.org
SUMMARY:PLAZO DE SOLICITUD DE ADMISIÓN EL CCFF CONCERTADOS
DESCRIPTION:Del 15 al 30 de junio de 2023 \nA través de la Secretaría Virtual de la Junta de Andalucía \n  \nPlazas para los CCFF: \nCFGM en Cuidados Auxiliares de Enfermería \nCFGM en Farmacia y Parafarmacia (Plazas Dual) \nCFGS en Gestión de Alojamientos Turísticos (Plazas Dual- Bilingüe)
URL:https://ribamar.org/eventos/plazo-de-solicitud-de-admision-el-ccff-concertados/
ATTACH;FMTTYPE=image/jpeg:https://ribamar.org/wp-content/uploads/2023/06/1rss.jpg
END:VEVENT
END:VCALENDAR