BEGIN:VCALENDAR
VERSION:2.0
PRODID:-//Ribamar - ECPv6.15.11//NONSGML v1.0//EN
CALSCALE:GREGORIAN
METHOD:PUBLISH
X-ORIGINAL-URL:https://ribamar.org
X-WR-CALDESC:Eventos para Ribamar
REFRESH-INTERVAL;VALUE=DURATION:PT1H
X-Robots-Tag:noindex
X-PUBLISHED-TTL:PT1H
BEGIN:VTIMEZONE
TZID:UTC
BEGIN:STANDARD
TZOFFSETFROM:+0000
TZOFFSETTO:+0000
TZNAME:UTC
DTSTART:20220101T000000
END:STANDARD
END:VTIMEZONE
BEGIN:VEVENT
DTSTART;VALUE=DATE:20230711
DTEND;VALUE=DATE:20230712
DTSTAMP:20260423T235222
CREATED:20230616T103318Z
LAST-MODIFIED:20230616T103318Z
UID:13344-1689033600-1689119999@ribamar.org
SUMMARY:RELACIÓN DEFINITIVA DE PERSONAS SOLICITANTES DE PLAZAS EN CCFF CONCERTADOS
DESCRIPTION:Relación definitiva de personas solicitantes. 11 de julio de 2023
URL:https://ribamar.org/eventos/relacion-definitiva-de-personas-solicitantes-de-plazas-en-ccff-concertados/
ATTACH;FMTTYPE=image/jpeg:https://ribamar.org/wp-content/uploads/2023/06/2rss.jpg
END:VEVENT
BEGIN:VEVENT
DTSTART;VALUE=DATE:20230712
DTEND;VALUE=DATE:20230719
DTSTAMP:20260423T235222
CREATED:20230616T103523Z
LAST-MODIFIED:20230616T103523Z
UID:13347-1689120000-1689724799@ribamar.org
SUMMARY:PRIMERA ADJUDICACIÓN PLAZAS CCFF CONCERTADOS RIBAMAR
DESCRIPTION:Primera adjudicación. 12 de julio de 2023\nMatrícula o reserva: Del 13 al 18 de julio de 2023
URL:https://ribamar.org/eventos/primera-adjudicacion-plazas-ccff-concertados-ribamar/
ATTACH;FMTTYPE=image/jpeg:https://ribamar.org/wp-content/uploads/2023/06/2rss.jpg
END:VEVENT
BEGIN:VEVENT
DTSTART;VALUE=DATE:20230720
DTEND;VALUE=DATE:20230727
DTSTAMP:20260423T235222
CREATED:20230616T103655Z
LAST-MODIFIED:20230616T103655Z
UID:13349-1689811200-1690415999@ribamar.org
SUMMARY:SEGUNDA ADJUDICACIÓN PLAZAS CCFF CONCERTADOS RIBAMAR
DESCRIPTION:Segunda adjudicación. 20 de Julio de 2023\nMatrícula del 21 al 26 de julio de 2023
URL:https://ribamar.org/eventos/segunda-adjudicacion-plazas-ccff-concertados-ribamar/
ATTACH;FMTTYPE=image/jpeg:https://ribamar.org/wp-content/uploads/2023/06/2rss.jpg
END:VEVENT
END:VCALENDAR